BEGIN:VCALENDAR
VERSION:2.0
PRODID:icalendar-ruby
CALSCALE:GREGORIAN
METHOD:PUBLISH
BEGIN:VEVENT
DTSTAMP:20260421T125645Z
UID:198-463216@tbclighthouse.org
DTSTART:20260427T223000Z
DTEND:20260428T000000Z
CLASS:PUBLIC
CREATED:20260326T123959
DESCRIPTION:
LAST-MODIFIED:20260326T123959
LOCATION:
SUMMARY:GriefShare
URL;VALUE=URI:https://www.tbclighthouse.org/events/griefshare--198/2026-04-
 27
END:VEVENT
END:VCALENDAR
